BEGIN:VCALENDAR
VERSION:2.0
PRODID:-//The Palm Cabaret - ECPv6.15.20//NONSGML v1.0//EN
CALSCALE:GREGORIAN
METHOD:PUBLISH
X-ORIGINAL-URL:https://thepalmcabaret.com
X-WR-CALDESC:Events for The Palm Cabaret
REFRESH-INTERVAL;VALUE=DURATION:PT1H
X-Robots-Tag:noindex
X-PUBLISHED-TTL:PT1H
BEGIN:VTIMEZONE
TZID:America/Mexico_City
BEGIN:STANDARD
TZOFFSETFROM:-0600
TZOFFSETTO:-0600
TZNAME:CST
DTSTART:20250101T000000
END:STANDARD
END:VTIMEZONE
BEGIN:VEVENT
DTSTART;TZID=America/Mexico_City:20260514T190000
DTEND;TZID=America/Mexico_City:20260514T200000
DTSTAMP:20260421T142005
CREATED:20260420T172540Z
LAST-MODIFIED:20260420T172540Z
UID:37811-1778785200-1778788800@thepalmcabaret.com
SUMMARY:The Rat Pack Show
DESCRIPTION:The beloved songs of Sammy Davis Junior\, Frank Sinatra\, Bing Crosby and Dean Martin are celebrated in this  fabulous limited run show.
URL:https://thepalmcabaret.com/event/the-rat-pack-show-11/
LOCATION:The Palm Cabaret and Bar\, 508 Olas Altas\, Puerto Vallarta\, JAL\, 48380\, Mexico
ATTACH;FMTTYPE=image/jpeg:https://thepalmcabaret.com/wp-content/uploads/2026/02/0a32ad7d7dbcfa451dad3d5418e4cfc4.jpg
END:VEVENT
BEGIN:VEVENT
DTSTART;TZID=America/Mexico_City:20260514T210000
DTEND;TZID=America/Mexico_City:20260514T220000
DTSTAMP:20260421T142006
CREATED:20260420T172311Z
LAST-MODIFIED:20260420T172311Z
UID:37807-1778792400-1778796000@thepalmcabaret.com
SUMMARY:Beyonce - tribute concert
DESCRIPTION:Queen Bey is ready to ignite the stage with new songs from Cowboy Carter tour\,  starring Cecille.
URL:https://thepalmcabaret.com/event/beyonce-tribute-concert-61/
LOCATION:The Palm Cabaret and Bar\, 508 Olas Altas\, Puerto Vallarta\, JAL\, 48380\, Mexico
ATTACH;FMTTYPE=image/jpeg:https://thepalmcabaret.com/wp-content/uploads/2025/09/e4a6a55f559a8de695e4e5468cb82f3b.jpg
END:VEVENT
BEGIN:VEVENT
DTSTART;TZID=America/Mexico_City:20260515T190000
DTEND;TZID=America/Mexico_City:20260515T200000
DTSTAMP:20260421T142006
CREATED:20260420T171821Z
LAST-MODIFIED:20260420T171821Z
UID:37796-1778871600-1778875200@thepalmcabaret.com
SUMMARY:Freddie Mercury - The Man\, The Voice\, The legend
DESCRIPTION:Get ready to rock out and pay tribute to the legendary Freddie Mercury\, it’s going to be an unforgettable night!
URL:https://thepalmcabaret.com/event/freddie-mercury-the-man-the-voice-the-legend-34/
LOCATION:The Palm Cabaret and Bar\, 508 Olas Altas\, Puerto Vallarta\, JAL\, 48380\, Mexico
ATTACH;FMTTYPE=image/jpeg:https://thepalmcabaret.com/wp-content/uploads/2025/10/f60e5bbf1b908f308c8310c47e531cae.jpg
END:VEVENT
BEGIN:VEVENT
DTSTART;TZID=America/Mexico_City:20260516T210000
DTEND;TZID=America/Mexico_City:20260516T220000
DTSTAMP:20260421T142006
CREATED:20260420T172025Z
LAST-MODIFIED:20260420T172025Z
UID:37802-1778965200-1778968800@thepalmcabaret.com
SUMMARY:Lady Gaga - Mother Mayhem
DESCRIPTION:The new show pays homage to “Mayhem\,” Lady Gaga’s latest tour\, featuring highlights from her most recent album and hits!
URL:https://thepalmcabaret.com/event/lady-gaga-mother-mayhem-31/
LOCATION:The Palm Cabaret and Bar\, 508 Olas Altas\, Puerto Vallarta\, JAL\, 48380\, Mexico
ATTACH;FMTTYPE=image/jpeg:https://thepalmcabaret.com/wp-content/uploads/2025/09/e30afeaa8eb728b00de471a189c11db7.jpg
END:VEVENT
BEGIN:VEVENT
DTSTART;TZID=America/Mexico_City:20260517T170000
DTEND;TZID=America/Mexico_City:20260517T180000
DTSTAMP:20260421T142006
CREATED:20260420T171523Z
LAST-MODIFIED:20260420T171523Z
UID:37785-1779037200-1779040800@thepalmcabaret.com
SUMMARY:ABBA - Tribute
DESCRIPTION:Get ready to dance and sing along to all the ABBA hits with a fantastic live band performance!
URL:https://thepalmcabaret.com/event/abba-tribute-20/
LOCATION:The Palm Cabaret and Bar\, 508 Olas Altas\, Puerto Vallarta\, JAL\, 48380\, Mexico
ATTACH;FMTTYPE=image/jpeg:https://thepalmcabaret.com/wp-content/uploads/2026/04/c887ad8ec482a33f96a18e893d53eb82.jpg
END:VEVENT
BEGIN:VEVENT
DTSTART;TZID=America/Mexico_City:20260520T170000
DTEND;TZID=America/Mexico_City:20260520T180000
DTSTAMP:20260421T142006
CREATED:20260420T171625Z
LAST-MODIFIED:20260420T171625Z
UID:37791-1779296400-1779300000@thepalmcabaret.com
SUMMARY:Flashback Fever
DESCRIPTION:Get ready to dance the night away to all your favorite throwback tunes at Flashback Fever – it’s going to be a blast!
URL:https://thepalmcabaret.com/event/flashback-fever-9/
LOCATION:The Palm Cabaret and Bar\, 508 Olas Altas\, Puerto Vallarta\, JAL\, 48380\, Mexico
ATTACH;FMTTYPE=image/jpeg:https://thepalmcabaret.com/wp-content/uploads/2025/12/b3b03b52c0ebd103780425be703a4b21.jpg
END:VEVENT
BEGIN:VEVENT
DTSTART;TZID=America/Mexico_City:20260520T210000
DTEND;TZID=America/Mexico_City:20260520T220000
DTSTAMP:20260421T142006
CREATED:20260420T172704Z
LAST-MODIFIED:20260420T172704Z
UID:37814-1779310800-1779314400@thepalmcabaret.com
SUMMARY:Hedwig And The Angry Inch
DESCRIPTION:Is a critically acclaimed and multiple Tony Award-winning Broadway rock theater hit\, which tells the story of Hedwig
URL:https://thepalmcabaret.com/event/hedwig-and-the-angry-inch-24/
LOCATION:The Palm Cabaret and Bar\, 508 Olas Altas\, Puerto Vallarta\, JAL\, 48380\, Mexico
ATTACH;FMTTYPE=image/jpeg:https://thepalmcabaret.com/wp-content/uploads/2024/10/64ca313bf1734f8952fd83897acb8887.jpg
END:VEVENT
BEGIN:VEVENT
DTSTART;TZID=America/Mexico_City:20260522T190000
DTEND;TZID=America/Mexico_City:20260522T200000
DTSTAMP:20260421T142006
CREATED:20260420T171822Z
LAST-MODIFIED:20260420T171822Z
UID:37797-1779476400-1779480000@thepalmcabaret.com
SUMMARY:Freddie Mercury - The Man\, The Voice\, The legend
DESCRIPTION:Get ready to rock out and pay tribute to the legendary Freddie Mercury\, it’s going to be an unforgettable night!
URL:https://thepalmcabaret.com/event/freddie-mercury-the-man-the-voice-the-legend-35/
LOCATION:The Palm Cabaret and Bar\, 508 Olas Altas\, Puerto Vallarta\, JAL\, 48380\, Mexico
ATTACH;FMTTYPE=image/jpeg:https://thepalmcabaret.com/wp-content/uploads/2025/10/f60e5bbf1b908f308c8310c47e531cae.jpg
END:VEVENT
BEGIN:VEVENT
DTSTART;TZID=America/Mexico_City:20260523T190000
DTEND;TZID=America/Mexico_City:20260523T200000
DTSTAMP:20260421T142006
CREATED:20260420T172704Z
LAST-MODIFIED:20260420T172704Z
UID:37815-1779562800-1779566400@thepalmcabaret.com
SUMMARY:Hedwig And The Angry Inch
DESCRIPTION:Is a critically acclaimed and multiple Tony Award-winning Broadway rock theater hit\, which tells the story of Hedwig
URL:https://thepalmcabaret.com/event/hedwig-and-the-angry-inch-25/
LOCATION:The Palm Cabaret and Bar\, 508 Olas Altas\, Puerto Vallarta\, JAL\, 48380\, Mexico
ATTACH;FMTTYPE=image/jpeg:https://thepalmcabaret.com/wp-content/uploads/2024/10/64ca313bf1734f8952fd83897acb8887.jpg
END:VEVENT
BEGIN:VEVENT
DTSTART;TZID=America/Mexico_City:20260523T210000
DTEND;TZID=America/Mexico_City:20260523T220000
DTSTAMP:20260421T142006
CREATED:20260420T172025Z
LAST-MODIFIED:20260420T172025Z
UID:37803-1779570000-1779573600@thepalmcabaret.com
SUMMARY:Lady Gaga - Mother Mayhem
DESCRIPTION:The new show pays homage to “Mayhem\,” Lady Gaga’s latest tour\, featuring highlights from her most recent album and hits!
URL:https://thepalmcabaret.com/event/lady-gaga-mother-mayhem-32/
LOCATION:The Palm Cabaret and Bar\, 508 Olas Altas\, Puerto Vallarta\, JAL\, 48380\, Mexico
ATTACH;FMTTYPE=image/jpeg:https://thepalmcabaret.com/wp-content/uploads/2025/09/e30afeaa8eb728b00de471a189c11db7.jpg
END:VEVENT
BEGIN:VEVENT
DTSTART;TZID=America/Mexico_City:20260524T170000
DTEND;TZID=America/Mexico_City:20260524T180000
DTSTAMP:20260421T142006
CREATED:20260420T171523Z
LAST-MODIFIED:20260420T171523Z
UID:37786-1779642000-1779645600@thepalmcabaret.com
SUMMARY:ABBA - Tribute
DESCRIPTION:Get ready to dance and sing along to all the ABBA hits with a fantastic live band performance!
URL:https://thepalmcabaret.com/event/abba-tribute-21/
LOCATION:The Palm Cabaret and Bar\, 508 Olas Altas\, Puerto Vallarta\, JAL\, 48380\, Mexico
ATTACH;FMTTYPE=image/jpeg:https://thepalmcabaret.com/wp-content/uploads/2026/04/c887ad8ec482a33f96a18e893d53eb82.jpg
END:VEVENT
BEGIN:VEVENT
DTSTART;TZID=America/Mexico_City:20260527T170000
DTEND;TZID=America/Mexico_City:20260527T180000
DTSTAMP:20260421T142006
CREATED:20260420T171626Z
LAST-MODIFIED:20260420T171626Z
UID:37792-1779901200-1779904800@thepalmcabaret.com
SUMMARY:Flashback Fever
DESCRIPTION:Get ready to dance the night away to all your favorite throwback tunes at Flashback Fever – it’s going to be a blast!
URL:https://thepalmcabaret.com/event/flashback-fever-10/
LOCATION:The Palm Cabaret and Bar\, 508 Olas Altas\, Puerto Vallarta\, JAL\, 48380\, Mexico
ATTACH;FMTTYPE=image/jpeg:https://thepalmcabaret.com/wp-content/uploads/2025/12/b3b03b52c0ebd103780425be703a4b21.jpg
END:VEVENT
BEGIN:VEVENT
DTSTART;TZID=America/Mexico_City:20260528T190000
DTEND;TZID=America/Mexico_City:20260528T200000
DTSTAMP:20260421T142006
CREATED:20260420T172541Z
LAST-MODIFIED:20260420T172541Z
UID:37812-1779994800-1779998400@thepalmcabaret.com
SUMMARY:The Rat Pack Show
DESCRIPTION:The beloved songs of Sammy Davis Junior\, Frank Sinatra\, Bing Crosby and Dean Martin are celebrated in this  fabulous limited run show.
URL:https://thepalmcabaret.com/event/the-rat-pack-show-12/
LOCATION:The Palm Cabaret and Bar\, 508 Olas Altas\, Puerto Vallarta\, JAL\, 48380\, Mexico
ATTACH;FMTTYPE=image/jpeg:https://thepalmcabaret.com/wp-content/uploads/2026/02/0a32ad7d7dbcfa451dad3d5418e4cfc4.jpg
END:VEVENT
BEGIN:VEVENT
DTSTART;TZID=America/Mexico_City:20260528T210000
DTEND;TZID=America/Mexico_City:20260528T220000
DTSTAMP:20260421T142006
CREATED:20260420T172311Z
LAST-MODIFIED:20260420T172311Z
UID:37808-1780002000-1780005600@thepalmcabaret.com
SUMMARY:Beyonce - tribute concert
DESCRIPTION:Queen Bey is ready to ignite the stage with new songs from Cowboy Carter tour\,  starring Cecille.
URL:https://thepalmcabaret.com/event/beyonce-tribute-concert-62/
LOCATION:The Palm Cabaret and Bar\, 508 Olas Altas\, Puerto Vallarta\, JAL\, 48380\, Mexico
ATTACH;FMTTYPE=image/jpeg:https://thepalmcabaret.com/wp-content/uploads/2025/09/e4a6a55f559a8de695e4e5468cb82f3b.jpg
END:VEVENT
BEGIN:VEVENT
DTSTART;TZID=America/Mexico_City:20260529T190000
DTEND;TZID=America/Mexico_City:20260529T200000
DTSTAMP:20260421T142006
CREATED:20260420T171822Z
LAST-MODIFIED:20260420T171822Z
UID:37798-1780081200-1780084800@thepalmcabaret.com
SUMMARY:Freddie Mercury - The Man\, The Voice\, The legend
DESCRIPTION:Get ready to rock out and pay tribute to the legendary Freddie Mercury\, it’s going to be an unforgettable night!
URL:https://thepalmcabaret.com/event/freddie-mercury-the-man-the-voice-the-legend-36/
LOCATION:The Palm Cabaret and Bar\, 508 Olas Altas\, Puerto Vallarta\, JAL\, 48380\, Mexico
ATTACH;FMTTYPE=image/jpeg:https://thepalmcabaret.com/wp-content/uploads/2025/10/f60e5bbf1b908f308c8310c47e531cae.jpg
END:VEVENT
BEGIN:VEVENT
DTSTART;TZID=America/Mexico_City:20260530T210000
DTEND;TZID=America/Mexico_City:20260530T220000
DTSTAMP:20260421T142006
CREATED:20260420T172026Z
LAST-MODIFIED:20260420T172026Z
UID:37804-1780174800-1780178400@thepalmcabaret.com
SUMMARY:Lady Gaga - Mother Mayhem
DESCRIPTION:The new show pays homage to “Mayhem\,” Lady Gaga’s latest tour\, featuring highlights from her most recent album and hits!
URL:https://thepalmcabaret.com/event/lady-gaga-mother-mayhem-33/
LOCATION:The Palm Cabaret and Bar\, 508 Olas Altas\, Puerto Vallarta\, JAL\, 48380\, Mexico
ATTACH;FMTTYPE=image/jpeg:https://thepalmcabaret.com/wp-content/uploads/2025/09/e30afeaa8eb728b00de471a189c11db7.jpg
END:VEVENT
BEGIN:VEVENT
DTSTART;TZID=America/Mexico_City:20260531T170000
DTEND;TZID=America/Mexico_City:20260531T180000
DTSTAMP:20260421T142006
CREATED:20260420T171523Z
LAST-MODIFIED:20260420T171523Z
UID:37787-1780246800-1780250400@thepalmcabaret.com
SUMMARY:ABBA - Tribute
DESCRIPTION:Get ready to dance and sing along to all the ABBA hits with a fantastic live band performance!
URL:https://thepalmcabaret.com/event/abba-tribute-22/
LOCATION:The Palm Cabaret and Bar\, 508 Olas Altas\, Puerto Vallarta\, JAL\, 48380\, Mexico
ATTACH;FMTTYPE=image/jpeg:https://thepalmcabaret.com/wp-content/uploads/2026/04/c887ad8ec482a33f96a18e893d53eb82.jpg
END:VEVENT
END:VCALENDAR