BEGIN:VCALENDAR
VERSION:2.0
PRODID:-//The Palm Cabaret - ECPv6.15.20//NONSGML v1.0//EN
CALSCALE:GREGORIAN
METHOD:PUBLISH
X-WR-CALNAME:The Palm Cabaret
X-ORIGINAL-URL:https://thepalmcabaret.com
X-WR-CALDESC:Events for The Palm Cabaret
REFRESH-INTERVAL;VALUE=DURATION:PT1H
X-Robots-Tag:noindex
X-PUBLISHED-TTL:PT1H
BEGIN:VTIMEZONE
TZID:America/Mexico_City
BEGIN:STANDARD
TZOFFSETFROM:-0600
TZOFFSETTO:-0600
TZNAME:CST
DTSTART:20250101T000000
END:STANDARD
END:VTIMEZONE
BEGIN:VEVENT
DTSTART;TZID=America/Mexico_City:20260331T170000
DTEND;TZID=America/Mexico_City:20260331T180000
DTSTAMP:20260422T113910
CREATED:20251030T164046Z
LAST-MODIFIED:20260210T081004Z
UID:32833-1774976400-1774980000@thepalmcabaret.com
SUMMARY:Freddie Mercury - The Man\, The Voice\, The legend
DESCRIPTION:Get ready to rock out and pay tribute to the legendary Freddie Mercury\, it’s going to be an unforgettable night!
URL:https://thepalmcabaret.com/event/freddie-mercury-the-man-the-voice-the-legend-27/
LOCATION:The Palm Cabaret and Bar\, 508 Olas Altas\, Puerto Vallarta\, JAL\, 48380\, Mexico
ATTACH;FMTTYPE=image/jpeg:https://thepalmcabaret.com/wp-content/uploads/2025/10/f60e5bbf1b908f308c8310c47e531cae.jpg
END:VEVENT
BEGIN:VEVENT
DTSTART;TZID=America/Mexico_City:20260331T190000
DTEND;TZID=America/Mexico_City:20260331T200000
DTSTAMP:20260422T113910
CREATED:20251127T203002Z
LAST-MODIFIED:20260324T052122Z
UID:33531-1774983600-1774987200@thepalmcabaret.com
SUMMARY:Sutton Lee Seymour - Super-Ma’am
DESCRIPTION:SUTTON LEE SEYMOUR returns to Puerto Vallarta with a completely brand new show!
URL:https://thepalmcabaret.com/event/sutton-lee-seymour-super-maam-26/
LOCATION:The Palm Cabaret and Bar\, 508 Olas Altas\, Puerto Vallarta\, JAL\, 48380\, Mexico
ATTACH;FMTTYPE=image/jpeg:https://thepalmcabaret.com/wp-content/uploads/2025/09/28522240e325f9b5074a210aa74e2f02.jpg
END:VEVENT
BEGIN:VEVENT
DTSTART;TZID=America/Mexico_City:20260331T210000
DTEND;TZID=America/Mexico_City:20260331T220000
DTSTAMP:20260422T113910
CREATED:20260218T210447Z
LAST-MODIFIED:20260330T161933Z
UID:36111-1774990800-1774994400@thepalmcabaret.com
SUMMARY:Tina - tribute by Diana Villamonte
DESCRIPTION:Inspired by the legendary Tina Turner\, Diana Villamonte pays powerful tribute to the undisputed Queen of Rock.
URL:https://thepalmcabaret.com/event/tina-tribute-by-diana-villamonte-5/
LOCATION:The Palm Cabaret and Bar\, 508 Olas Altas\, Puerto Vallarta\, JAL\, 48380\, Mexico
ATTACH;FMTTYPE=image/jpeg:https://thepalmcabaret.com/wp-content/uploads/2026/02/21f5b5000e34543d37cb6e6d2325f5e7.jpg
END:VEVENT
END:VCALENDAR