BEGIN:VCALENDAR
VERSION:2.0
PRODID:-//The Palm Cabaret - ECPv6.15.20//NONSGML v1.0//EN
CALSCALE:GREGORIAN
METHOD:PUBLISH
X-WR-CALNAME:The Palm Cabaret
X-ORIGINAL-URL:https://thepalmcabaret.com
X-WR-CALDESC:Events for The Palm Cabaret
REFRESH-INTERVAL;VALUE=DURATION:PT1H
X-Robots-Tag:noindex
X-PUBLISHED-TTL:PT1H
BEGIN:VTIMEZONE
TZID:America/Mexico_City
BEGIN:STANDARD
TZOFFSETFROM:-0600
TZOFFSETTO:-0600
TZNAME:CST
DTSTART:20250101T000000
END:STANDARD
END:VTIMEZONE
BEGIN:VEVENT
DTSTART;TZID=America/Mexico_City:20260326T170000
DTEND;TZID=America/Mexico_City:20260326T180000
DTSTAMP:20260425T054517
CREATED:20251226T144330Z
LAST-MODIFIED:20260324T044515Z
UID:34608-1774544400-1774548000@thepalmcabaret.com
SUMMARY:The Rocketman - Concert
DESCRIPTION:Get ready to rock out with Daniel Celis (Elton John) and  Monaco Band\, it’s going to be a night to remember! BUY TICKETS HERE:
URL:https://thepalmcabaret.com/event/the-rocketman-concert-17/
LOCATION:The Palm Cabaret and Bar\, 508 Olas Altas\, Puerto Vallarta\, JAL\, 48380\, Mexico
ATTACH;FMTTYPE=image/jpeg:https://thepalmcabaret.com/wp-content/uploads/2025/09/9167425aa845fd48c019837e81c65d07.jpg
END:VEVENT
BEGIN:VEVENT
DTSTART;TZID=America/Mexico_City:20260326T190000
DTEND;TZID=America/Mexico_City:20260326T200000
DTSTAMP:20260425T054517
CREATED:20260116T191821Z
LAST-MODIFIED:20260309T183950Z
UID:35150-1774551600-1774555200@thepalmcabaret.com
SUMMARY:Miss Conception - Make America Gay Again "Not The 51st State"
DESCRIPTION:Expect 20 Dazzling costume reveals\, spot-on celebrity impersonations\, all-live singing\, and reimagined pop anthems!
URL:https://thepalmcabaret.com/event/miss-conception-make-america-gay-again-not-the-51st-state-33/
LOCATION:The Palm Cabaret and Bar\, 508 Olas Altas\, Puerto Vallarta\, JAL\, 48380\, Mexico
ATTACH;FMTTYPE=image/jpeg:https://thepalmcabaret.com/wp-content/uploads/2025/09/992e92d54e2ad0b24563a09cbaecfc97.jpg
END:VEVENT
BEGIN:VEVENT
DTSTART;TZID=America/Mexico_City:20260326T190000
DTEND;TZID=America/Mexico_City:20260326T200000
DTSTAMP:20260425T054517
CREATED:20260324T044730Z
LAST-MODIFIED:20260324T044730Z
UID:37012-1774551600-1774555200@thepalmcabaret.com
SUMMARY:Miss Conception - Make America Gay Again "Not The 51st State"
DESCRIPTION:Expect 20 Dazzling costume reveals\, spot-on celebrity impersonations\, all-live singing\, and reimagined pop anthems!
URL:https://thepalmcabaret.com/event/miss-conception-make-america-gay-again-not-the-51st-state-39/
LOCATION:The Palm Cabaret and Bar\, 508 Olas Altas\, Puerto Vallarta\, JAL\, 48380\, Mexico
ATTACH;FMTTYPE=image/jpeg:https://thepalmcabaret.com/wp-content/uploads/2025/09/992e92d54e2ad0b24563a09cbaecfc97.jpg
END:VEVENT
BEGIN:VEVENT
DTSTART;TZID=America/Mexico_City:20260326T210000
DTEND;TZID=America/Mexico_City:20260326T220000
DTSTAMP:20260425T054517
CREATED:20251212T060823Z
LAST-MODIFIED:20260324T050409Z
UID:34102-1774558800-1774562400@thepalmcabaret.com
SUMMARY:Beyonce - tribute concert
DESCRIPTION:Queen Bey is ready to ignite the stage with new songs from Cowboy Carter tour\,  starring Cecille.
URL:https://thepalmcabaret.com/event/beyonce-tribute-concert-54/
LOCATION:The Palm Cabaret and Bar\, 508 Olas Altas\, Puerto Vallarta\, JAL\, 48380\, Mexico
ATTACH;FMTTYPE=image/jpeg:https://thepalmcabaret.com/wp-content/uploads/2025/09/e4a6a55f559a8de695e4e5468cb82f3b.jpg
END:VEVENT
END:VCALENDAR