BEGIN:VCALENDAR
VERSION:2.0
PRODID:-//The Palm Cabaret - ECPv6.15.20//NONSGML v1.0//EN
CALSCALE:GREGORIAN
METHOD:PUBLISH
X-ORIGINAL-URL:https://thepalmcabaret.com
X-WR-CALDESC:Events for The Palm Cabaret
REFRESH-INTERVAL;VALUE=DURATION:PT1H
X-Robots-Tag:noindex
X-PUBLISHED-TTL:PT1H
BEGIN:VTIMEZONE
TZID:America/Mexico_City
BEGIN:STANDARD
TZOFFSETFROM:-0600
TZOFFSETTO:-0600
TZNAME:CST
DTSTART:20250101T000000
END:STANDARD
END:VTIMEZONE
BEGIN:VEVENT
DTSTART;TZID=America/Mexico_City:20260315T170000
DTEND;TZID=America/Mexico_City:20260315T180000
DTSTAMP:20260425T054706
CREATED:20251205T161111Z
LAST-MODIFIED:20251205T161111Z
UID:33895-1773594000-1773597600@thepalmcabaret.com
SUMMARY:Puerto Vallarta Sings David Friedman
DESCRIPTION:A REVIEW OF FRIEDMAN’S SONG SUNG BY YOUR FAVORITE PV PERFORMERS
URL:https://thepalmcabaret.com/event/puerto-vallarta-sings-david-friedman/
LOCATION:The Palm Cabaret and Bar\, 508 Olas Altas\, Puerto Vallarta\, JAL\, 48380\, Mexico
ATTACH;FMTTYPE=image/jpeg:https://thepalmcabaret.com/wp-content/uploads/2025/12/ac051a9021a628becf12e6b948e6f57d.jpg
END:VEVENT
BEGIN:VEVENT
DTSTART;TZID=America/Mexico_City:20260315T210000
DTEND;TZID=America/Mexico_City:20260315T220000
DTSTAMP:20260425T054706
CREATED:20251212T061833Z
LAST-MODIFIED:20251212T061833Z
UID:34156-1773608400-1773612000@thepalmcabaret.com
SUMMARY:Tynomi Banks - Solid Gold
DESCRIPTION:She’s Big \, She’s Black \, She’s  Beautiful\, Banks owns the stage.  For a Full Season.
URL:https://thepalmcabaret.com/event/tynomi-banks-solid-gold-17/
LOCATION:The Palm Cabaret and Bar\, 508 Olas Altas\, Puerto Vallarta\, JAL\, 48380\, Mexico
ATTACH;FMTTYPE=image/jpeg:https://thepalmcabaret.com/wp-content/uploads/2025/09/cb92a72662c5977b2568a4df73d3d49b.jpg
END:VEVENT
END:VCALENDAR