BEGIN:VCALENDAR
VERSION:2.0
PRODID:-//The Palm Cabaret - ECPv6.15.20//NONSGML v1.0//EN
CALSCALE:GREGORIAN
METHOD:PUBLISH
X-ORIGINAL-URL:https://thepalmcabaret.com
X-WR-CALDESC:Events for The Palm Cabaret
REFRESH-INTERVAL;VALUE=DURATION:PT1H
X-Robots-Tag:noindex
X-PUBLISHED-TTL:PT1H
BEGIN:VTIMEZONE
TZID:America/Mexico_City
BEGIN:STANDARD
TZOFFSETFROM:-0600
TZOFFSETTO:-0600
TZNAME:CST
DTSTART:20250101T000000
END:STANDARD
END:VTIMEZONE
BEGIN:VEVENT
DTSTART;TZID=America/Mexico_City:20260112T170000
DTEND;TZID=America/Mexico_City:20260112T180000
DTSTAMP:20260419T061338
CREATED:20251212T062052Z
LAST-MODIFIED:20251212T062052Z
UID:34161-1768237200-1768240800@thepalmcabaret.com
SUMMARY:ABBA - Tribute
DESCRIPTION:Get ready to dance and sing along to all the ABBA hits with a fantastic live band performance!
URL:https://thepalmcabaret.com/event/abba-tribute-2/
LOCATION:The Palm Cabaret and Bar\, 508 Olas Altas\, Puerto Vallarta\, JAL\, 48380\, Mexico
ATTACH;FMTTYPE=image/jpeg:https://thepalmcabaret.com/wp-content/uploads/2025/09/b37d706946f3c538b46f74f9717c61b6.jpg
END:VEVENT
BEGIN:VEVENT
DTSTART;TZID=America/Mexico_City:20260112T190000
DTEND;TZID=America/Mexico_City:20260112T200000
DTSTAMP:20260419T061338
CREATED:20251124T140142Z
LAST-MODIFIED:20251124T140142Z
UID:33404-1768244400-1768248000@thepalmcabaret.com
SUMMARY:Varla Jean - The Drowsy Chappell Roan
DESCRIPTION:Get ready to be transported to a whimsical world with Varla Jean in The Drowsy Chappell Roan\, a show full of surprises and laughter!
URL:https://thepalmcabaret.com/event/varla-jean-the-drowsy-chappell-roan-4/
LOCATION:The Palm Cabaret and Bar\, 508 Olas Altas\, Puerto Vallarta\, JAL\, 48380\, Mexico
ATTACH;FMTTYPE=image/jpeg:https://thepalmcabaret.com/wp-content/uploads/2025/11/1862b0f0cfdc770cedaa93fb10d65a92.jpg
END:VEVENT
BEGIN:VEVENT
DTSTART;TZID=America/Mexico_City:20260112T210000
DTEND;TZID=America/Mexico_City:20260112T220000
DTSTAMP:20260419T061338
CREATED:20251004T032403Z
LAST-MODIFIED:20251219T142420Z
UID:32009-1768251600-1768255200@thepalmcabaret.com
SUMMARY:Miss Conception - Make America Gay Again "Not The 51st State"
DESCRIPTION:Expect 20 Dazzling costume reveals\, spot-on celebrity impersonations\, all-live singing\, and reimagined pop anthems!
URL:https://thepalmcabaret.com/event/miss-conception-make-america-gay-again-not-the-51st-state-4/
LOCATION:The Palm Cabaret and Bar\, 508 Olas Altas\, Puerto Vallarta\, JAL\, 48380\, Mexico
ATTACH;FMTTYPE=image/jpeg:https://thepalmcabaret.com/wp-content/uploads/2025/09/992e92d54e2ad0b24563a09cbaecfc97.jpg
END:VEVENT
END:VCALENDAR