BEGIN:VCALENDAR
VERSION:2.0
PRODID:-//The Palm Cabaret - ECPv6.15.20//NONSGML v1.0//EN
CALSCALE:GREGORIAN
METHOD:PUBLISH
X-WR-CALNAME:The Palm Cabaret
X-ORIGINAL-URL:https://thepalmcabaret.com
X-WR-CALDESC:Events for The Palm Cabaret
REFRESH-INTERVAL;VALUE=DURATION:PT1H
X-Robots-Tag:noindex
X-PUBLISHED-TTL:PT1H
BEGIN:VTIMEZONE
TZID:America/Mexico_City
BEGIN:STANDARD
TZOFFSETFROM:-0600
TZOFFSETTO:-0600
TZNAME:CST
DTSTART:20240101T000000
END:STANDARD
END:VTIMEZONE
BEGIN:VEVENT
DTSTART;TZID=America/Mexico_City:20251231T160000
DTEND;TZID=America/Mexico_City:20251231T170000
DTSTAMP:20260419T062051
CREATED:20251229T210612Z
LAST-MODIFIED:20251229T211132Z
UID:34676-1767196800-1767200400@thepalmcabaret.com
SUMMARY:Miss Conception - Make America Gay Again "Not The 51st State" - NEW YEARS EVE Special
DESCRIPTION:Expect 20 Dazzling costume reveals\, spot-on celebrity impersonations\, all-live singing\, and reimagined pop anthems!
URL:https://thepalmcabaret.com/event/miss-conception-make-america-gay-again-not-the-51st-state-27/
LOCATION:The Palm Cabaret and Bar\, 508 Olas Altas\, Puerto Vallarta\, JAL\, 48380\, Mexico
ATTACH;FMTTYPE=image/jpeg:https://thepalmcabaret.com/wp-content/uploads/2025/09/992e92d54e2ad0b24563a09cbaecfc97.jpg
END:VEVENT
BEGIN:VEVENT
DTSTART;TZID=America/Mexico_City:20251231T180000
DTEND;TZID=America/Mexico_City:20251231T190000
DTSTAMP:20260419T062051
CREATED:20251216T213323Z
LAST-MODIFIED:20251216T213323Z
UID:34332-1767204000-1767207600@thepalmcabaret.com
SUMMARY:Amy Winehouse  - Forever - NEW YEARS EVE Special
DESCRIPTION:From the iconic hits you know like Back To Black\, Valarie\, and Rehab — to deep cuts that showcase Amy’s genius.
URL:https://thepalmcabaret.com/event/amy-winehouse-forever-new-years-eve-special/
LOCATION:The Palm Cabaret and Bar\, 508 Olas Altas\, Puerto Vallarta\, JAL\, 48380\, Mexico
ATTACH;FMTTYPE=image/jpeg:https://thepalmcabaret.com/wp-content/uploads/2025/12/965da0850c55056cd2f08516ebd836de.jpg
END:VEVENT
BEGIN:VEVENT
DTSTART;TZID=America/Mexico_City:20251231T210000
DTEND;TZID=America/Mexico_City:20251231T220000
DTSTAMP:20260419T062051
CREATED:20250828T224222Z
LAST-MODIFIED:20251020T185101Z
UID:30348-1767214800-1767218400@thepalmcabaret.com
SUMMARY:Raja
DESCRIPTION:Raja\, from RuPaul’s Drag Race SEASON 3 WINNER!
URL:https://thepalmcabaret.com/event/raja-11/
LOCATION:The Palm Cabaret and Bar\, 508 Olas Altas\, Puerto Vallarta\, JAL\, 48380\, Mexico
ATTACH;FMTTYPE=image/jpeg:https://thepalmcabaret.com/wp-content/uploads/2025/10/7dfa0f91e996a9227a382a3264dc3c1c.jpg
END:VEVENT
END:VCALENDAR