BEGIN:VCALENDAR
VERSION:2.0
PRODID:-//The Palm Cabaret - ECPv6.15.20//NONSGML v1.0//EN
CALSCALE:GREGORIAN
METHOD:PUBLISH
X-WR-CALNAME:The Palm Cabaret
X-ORIGINAL-URL:https://thepalmcabaret.com
X-WR-CALDESC:Events for The Palm Cabaret
REFRESH-INTERVAL;VALUE=DURATION:PT1H
X-Robots-Tag:noindex
X-PUBLISHED-TTL:PT1H
BEGIN:VTIMEZONE
TZID:America/Mexico_City
BEGIN:STANDARD
TZOFFSETFROM:-0600
TZOFFSETTO:-0600
TZNAME:CST
DTSTART:20240101T000000
END:STANDARD
END:VTIMEZONE
BEGIN:VEVENT
DTSTART;TZID=America/Mexico_City:20251204T190000
DTEND;TZID=America/Mexico_City:20251204T200000
DTSTAMP:20260421T053911
CREATED:20250829T052123Z
LAST-MODIFIED:20251004T032402Z
UID:30359-1764874800-1764878400@thepalmcabaret.com
SUMMARY:Miss Conception - Make America Gay Again "Not The 51st State"
DESCRIPTION:Expect 20 Dazzling costume reveals\, spot-on celebrity impersonations\, all-live singing\, and reimagined pop anthems!
URL:https://thepalmcabaret.com/event/miss-conception-6/
LOCATION:The Palm Cabaret and Bar\, 508 Olas Altas\, Puerto Vallarta\, JAL\, 48380\, Mexico
ATTACH;FMTTYPE=image/jpeg:https://thepalmcabaret.com/wp-content/uploads/2025/09/992e92d54e2ad0b24563a09cbaecfc97.jpg
END:VEVENT
BEGIN:VEVENT
DTSTART;TZID=America/Mexico_City:20251204T210000
DTEND;TZID=America/Mexico_City:20251204T220000
DTSTAMP:20260421T053911
CREATED:20250827T072955Z
LAST-MODIFIED:20250930T195842Z
UID:30238-1764882000-1764885600@thepalmcabaret.com
SUMMARY:Beyonce - tribute concert
DESCRIPTION:A show full of slick original choreography\, jaw dropping vocal ability\, phenomenal costume changes. The next best thing to Beyoncé herself!
URL:https://thepalmcabaret.com/event/beyonce-tribute-concert-31/
LOCATION:The Palm Cabaret and Bar\, 508 Olas Altas\, Puerto Vallarta\, JAL\, 48380\, Mexico
ATTACH;FMTTYPE=image/jpeg:https://thepalmcabaret.com/wp-content/uploads/2025/09/e4a6a55f559a8de695e4e5468cb82f3b.jpg
END:VEVENT
END:VCALENDAR