BEGIN:VCALENDAR
VERSION:2.0
PRODID:-//The Palm Cabaret - ECPv6.15.20//NONSGML v1.0//EN
CALSCALE:GREGORIAN
METHOD:PUBLISH
X-WR-CALNAME:The Palm Cabaret
X-ORIGINAL-URL:https://thepalmcabaret.com
X-WR-CALDESC:Events for The Palm Cabaret
REFRESH-INTERVAL;VALUE=DURATION:PT1H
X-Robots-Tag:noindex
X-PUBLISHED-TTL:PT1H
BEGIN:VTIMEZONE
TZID:America/Mexico_City
BEGIN:STANDARD
TZOFFSETFROM:-0600
TZOFFSETTO:-0600
TZNAME:CST
DTSTART:20240101T000000
END:STANDARD
END:VTIMEZONE
BEGIN:VEVENT
DTSTART;TZID=America/Mexico_City:20251123T190000
DTEND;TZID=America/Mexico_City:20251123T200000
DTSTAMP:20260419T083728
CREATED:20251106T001614Z
LAST-MODIFIED:20251106T001614Z
UID:33033-1763924400-1763928000@thepalmcabaret.com
SUMMARY:You Raise Me Up: The Music of Josh Groban
DESCRIPTION:With ballads\, duets\, and classics from stage\, screen and pop culture\, the show will take audiences on a theatrical and musical journey.
URL:https://thepalmcabaret.com/event/you-raise-me-up-the-music-of-josh-groban-6/
LOCATION:The Palm Cabaret and Bar\, 508 Olas Altas\, Puerto Vallarta\, JAL\, 48380\, Mexico
ATTACH;FMTTYPE=image/jpeg:https://thepalmcabaret.com/wp-content/uploads/2025/11/28cd383aaeceba1ab57f4977ac8fc01a.jpg
END:VEVENT
BEGIN:VEVENT
DTSTART;TZID=America/Mexico_City:20251123T210000
DTEND;TZID=America/Mexico_City:20251123T220000
DTSTAMP:20260419T083728
CREATED:20250831T170719Z
LAST-MODIFIED:20250904T190736Z
UID:30622-1763931600-1763935200@thepalmcabaret.com
SUMMARY:Tynomi Banks - Solid Gold
DESCRIPTION:She’s Big \, She’s Black \, She’s  Beautiful\, Banks owns the stage.  For a Full Season.
URL:https://thepalmcabaret.com/event/tynomi-banks-12/
LOCATION:The Palm Cabaret and Bar\, 508 Olas Altas\, Puerto Vallarta\, JAL\, 48380\, Mexico
ATTACH;FMTTYPE=image/jpeg:https://thepalmcabaret.com/wp-content/uploads/2025/09/cb92a72662c5977b2568a4df73d3d49b.jpg
END:VEVENT
END:VCALENDAR