BEGIN:VCALENDAR
VERSION:2.0
PRODID:-//The Palm Cabaret - ECPv6.15.20//NONSGML v1.0//EN
CALSCALE:GREGORIAN
METHOD:PUBLISH
X-WR-CALNAME:The Palm Cabaret
X-ORIGINAL-URL:https://thepalmcabaret.com
X-WR-CALDESC:Events for The Palm Cabaret
REFRESH-INTERVAL;VALUE=DURATION:PT1H
X-Robots-Tag:noindex
X-PUBLISHED-TTL:PT1H
BEGIN:VTIMEZONE
TZID:America/Mexico_City
BEGIN:STANDARD
TZOFFSETFROM:-0600
TZOFFSETTO:-0600
TZNAME:CST
DTSTART:20240101T000000
END:STANDARD
END:VTIMEZONE
BEGIN:VEVENT
DTSTART;TZID=America/Mexico_City:20251121T170000
DTEND;TZID=America/Mexico_City:20251121T180000
DTSTAMP:20260419T061403
CREATED:20250831T165140Z
LAST-MODIFIED:20250904T171152Z
UID:30609-1763744400-1763748000@thepalmcabaret.com
SUMMARY:Céline Dion -  The Power of Love
DESCRIPTION:Mariana Vigueras\, a versatile Mexican singer with a powerful voice\, dazzles audiences with her interpretation of Céline Dion.
URL:https://thepalmcabaret.com/event/celine-starring-mariana-vigueras-3/
LOCATION:The Palm Cabaret and Bar\, 508 Olas Altas\, Puerto Vallarta\, JAL\, 48380\, Mexico
ATTACH;FMTTYPE=image/jpeg:https://thepalmcabaret.com/wp-content/uploads/2025/09/58ef9607d8f3df166f9cc4e5dacba665.jpg
END:VEVENT
BEGIN:VEVENT
DTSTART;TZID=America/Mexico_City:20251121T190000
DTEND;TZID=America/Mexico_City:20251121T200000
DTSTAMP:20260419T061403
CREATED:20250827T064650Z
LAST-MODIFIED:20251030T164040Z
UID:30013-1763751600-1763755200@thepalmcabaret.com
SUMMARY:Freddie Mercury - The Man\, The Voice\, The legend
DESCRIPTION:Get ready to rock out and pay tribute to the legendary Freddie Mercury\, it’s going to be an unforgettable night!
URL:https://thepalmcabaret.com/event/freddie-mercury-tribute-show-6/
LOCATION:The Palm Cabaret and Bar\, 508 Olas Altas\, Puerto Vallarta\, JAL\, 48380\, Mexico
ATTACH;FMTTYPE=image/jpeg:https://thepalmcabaret.com/wp-content/uploads/2025/10/f60e5bbf1b908f308c8310c47e531cae.jpg
END:VEVENT
END:VCALENDAR