BEGIN:VCALENDAR
VERSION:2.0
PRODID:-//The Palm Cabaret - ECPv6.15.20//NONSGML v1.0//EN
CALSCALE:GREGORIAN
METHOD:PUBLISH
X-WR-CALNAME:The Palm Cabaret
X-ORIGINAL-URL:https://thepalmcabaret.com
X-WR-CALDESC:Events for The Palm Cabaret
REFRESH-INTERVAL;VALUE=DURATION:PT1H
X-Robots-Tag:noindex
X-PUBLISHED-TTL:PT1H
BEGIN:VTIMEZONE
TZID:America/Mexico_City
BEGIN:STANDARD
TZOFFSETFROM:-0600
TZOFFSETTO:-0600
TZNAME:CST
DTSTART:20240101T000000
END:STANDARD
END:VTIMEZONE
BEGIN:VEVENT
DTSTART;TZID=America/Mexico_City:20250404T170000
DTEND;TZID=America/Mexico_City:20250404T180000
DTSTAMP:20260422T084458
CREATED:20250313T034603Z
LAST-MODIFIED:20250313T034603Z
UID:26340-1743786000-1743789600@thepalmcabaret.com
SUMMARY:Living Legends - Streisand\, Andrews\, Dion\, King\, Ross and more
DESCRIPTION:Mariana Vigueras Restelli\, a versatile Mexican singer with a powerful voice\, has dazzled audiences across genres from Soul and Pop to Opera
URL:https://thepalmcabaret.com/event/living-legends-streisand-andrews-dion-king-ross-and-more-15/
LOCATION:The Palm Cabaret and Bar\, 508 Olas Altas\, Puerto Vallarta\, JAL\, 48380\, Mexico
ATTACH;FMTTYPE=image/jpeg:https://thepalmcabaret.com/wp-content/uploads/2025/01/107cd19ebb8637f271a59fa849cf3118.jpg
END:VEVENT
BEGIN:VEVENT
DTSTART;TZID=America/Mexico_City:20250404T210000
DTEND;TZID=America/Mexico_City:20250404T220000
DTSTAMP:20260422T084458
CREATED:20241010T035751Z
LAST-MODIFIED:20241010T035751Z
UID:21405-1743800400-1743804000@thepalmcabaret.com
SUMMARY:Sutton Lee Seymour - Witch\, Please!
DESCRIPTION:When you’re a Barbie Girl living in a Barbie World\, there is NO business like SHOW business!
URL:https://thepalmcabaret.com/event/sutton-lee-seymour-witch-please-38/
LOCATION:The Palm Cabaret and Bar\, 508 Olas Altas\, Puerto Vallarta\, JAL\, 48380\, Mexico
ATTACH;FMTTYPE=image/jpeg:https://thepalmcabaret.com/wp-content/uploads/2024/10/34f74aef8cfec86ee0e7af676635744e.jpg
END:VEVENT
END:VCALENDAR