BEGIN:VCALENDAR
VERSION:2.0
PRODID:-//The Palm Cabaret - ECPv6.15.20//NONSGML v1.0//EN
CALSCALE:GREGORIAN
METHOD:PUBLISH
X-WR-CALNAME:The Palm Cabaret
X-ORIGINAL-URL:https://thepalmcabaret.com
X-WR-CALDESC:Events for The Palm Cabaret
REFRESH-INTERVAL;VALUE=DURATION:PT1H
X-Robots-Tag:noindex
X-PUBLISHED-TTL:PT1H
BEGIN:VTIMEZONE
TZID:America/Mexico_City
BEGIN:STANDARD
TZOFFSETFROM:-0600
TZOFFSETTO:-0600
TZNAME:CST
DTSTART:20240101T000000
END:STANDARD
END:VTIMEZONE
BEGIN:VEVENT
DTSTART;TZID=America/Mexico_City:20250326T190000
DTEND;TZID=America/Mexico_City:20250326T200000
DTSTAMP:20260422T084428
CREATED:20250217T142736Z
LAST-MODIFIED:20250217T142736Z
UID:25391-1743015600-1743019200@thepalmcabaret.com
SUMMARY:You Raise Me Up: The Music of Josh Groban
DESCRIPTION:With ballads\, duets\, and classics from stage\, screen and pop culture\, the show will take audiences on a theatrical and musical journey.
URL:https://thepalmcabaret.com/event/you-raise-me-up-the-music-of-josh-groban-4/
LOCATION:The Palm Cabaret and Bar\, 508 Olas Altas\, Puerto Vallarta\, JAL\, 48380\, Mexico
ATTACH;FMTTYPE=image/jpeg:https://thepalmcabaret.com/wp-content/uploads/2024/10/606651c2555e815281e7fb1bf33f5908.jpg
END:VEVENT
BEGIN:VEVENT
DTSTART;TZID=America/Mexico_City:20250326T210000
DTEND;TZID=America/Mexico_City:20250326T223000
DTSTAMP:20260422T084428
CREATED:20241010T042653Z
LAST-MODIFIED:20241010T042653Z
UID:21452-1743022800-1743028200@thepalmcabaret.com
SUMMARY:Mama Tits - Escándalo
DESCRIPTION:Mama is a symphony of humor\, heart\, and high heels. Join her on a whimsical adventure where self-love and authenticity play the lead roles.
URL:https://thepalmcabaret.com/event/mama-tits-escandalo-42/
LOCATION:The Palm Cabaret and Bar\, 508 Olas Altas\, Puerto Vallarta\, JAL\, 48380\, Mexico
ATTACH;FMTTYPE=image/jpeg:https://thepalmcabaret.com/wp-content/uploads/2024/09/f53e1a0011da23979c3d26036d2651ba.jpg
END:VEVENT
END:VCALENDAR