BEGIN:VCALENDAR
VERSION:2.0
PRODID:-//The Palm Cabaret - ECPv6.15.20//NONSGML v1.0//EN
CALSCALE:GREGORIAN
METHOD:PUBLISH
X-WR-CALNAME:The Palm Cabaret
X-ORIGINAL-URL:https://thepalmcabaret.com
X-WR-CALDESC:Events for The Palm Cabaret
REFRESH-INTERVAL;VALUE=DURATION:PT1H
X-Robots-Tag:noindex
X-PUBLISHED-TTL:PT1H
BEGIN:VTIMEZONE
TZID:America/Mexico_City
BEGIN:STANDARD
TZOFFSETFROM:-0600
TZOFFSETTO:-0600
TZNAME:CST
DTSTART:20240101T000000
END:STANDARD
END:VTIMEZONE
BEGIN:VEVENT
DTSTART;TZID=America/Mexico_City:20250324T190000
DTEND;TZID=America/Mexico_City:20250324T200000
DTSTAMP:20260424T091635
CREATED:20250302T175721Z
LAST-MODIFIED:20250303T194722Z
UID:25899-1742842800-1742846400@thepalmcabaret.com
SUMMARY:Debby Holiday - Tina & Friends
DESCRIPTION:Get ready to dance the night away with Debby Holiday\, a powerhouse tribute to Tina Turner\, Chappell Roan & Broadway’s Best!
URL:https://thepalmcabaret.com/event/debby-holiday-tina-friends-2/
LOCATION:The Palm Cabaret and Bar\, 508 Olas Altas\, Puerto Vallarta\, JAL\, 48380\, Mexico
ATTACH;FMTTYPE=image/jpeg:https://thepalmcabaret.com/wp-content/uploads/2025/03/481111714_1022755906341047_4554261564489811313_n.jpg
END:VEVENT
BEGIN:VEVENT
DTSTART;TZID=America/Mexico_City:20250324T210000
DTEND;TZID=America/Mexico_City:20250324T220000
DTSTAMP:20260424T091635
CREATED:20240920T135838Z
LAST-MODIFIED:20240920T135838Z
UID:20897-1742850000-1742853600@thepalmcabaret.com
SUMMARY:Miss Conception - 25
DESCRIPTION:Kevin Levesque as Miss Conception\, celebrates 25 year in showbiz\, 25 costume changes. All live singing!
URL:https://thepalmcabaret.com/event/miss-conception-25-39/
LOCATION:The Palm Cabaret and Bar\, 508 Olas Altas\, Puerto Vallarta\, JAL\, 48380\, Mexico
ATTACH;FMTTYPE=image/jpeg:https://thepalmcabaret.com/wp-content/uploads/2024/09/9615b7e33e07b7c8cb9e34d1f88a899e.jpg
END:VEVENT
END:VCALENDAR