BEGIN:VCALENDAR
VERSION:2.0
PRODID:-//The Palm Cabaret - ECPv6.15.20//NONSGML v1.0//EN
CALSCALE:GREGORIAN
METHOD:PUBLISH
X-ORIGINAL-URL:https://thepalmcabaret.com
X-WR-CALDESC:Events for The Palm Cabaret
REFRESH-INTERVAL;VALUE=DURATION:PT1H
X-Robots-Tag:noindex
X-PUBLISHED-TTL:PT1H
BEGIN:VTIMEZONE
TZID:America/Mexico_City
BEGIN:STANDARD
TZOFFSETFROM:-0600
TZOFFSETTO:-0600
TZNAME:CST
DTSTART:20240101T000000
END:STANDARD
END:VTIMEZONE
BEGIN:VEVENT
DTSTART;TZID=America/Mexico_City:20250322T170000
DTEND;TZID=America/Mexico_City:20250322T180000
DTSTAMP:20260422T140138
CREATED:20250217T145353Z
LAST-MODIFIED:20250217T145353Z
UID:25394-1742662800-1742666400@thepalmcabaret.com
SUMMARY:Sol Rose - tribute to Frank Sinatra
DESCRIPTION:Sol Rose is OL’ BLUE EYES a tribute to Frank Sinatra
URL:https://thepalmcabaret.com/event/sol-rose-tribute-to-frank-sinatra-5/
LOCATION:The Palm Cabaret and Bar\, 508 Olas Altas\, Puerto Vallarta\, JAL\, 48380\, Mexico
ATTACH;FMTTYPE=image/jpeg:https://thepalmcabaret.com/wp-content/uploads/2025/01/0269f7ac51e7051885af1fbc1a90db3a.jpg
END:VEVENT
BEGIN:VEVENT
DTSTART;TZID=America/Mexico_City:20250322T210000
DTEND;TZID=America/Mexico_City:20250322T223000
DTSTAMP:20260422T140138
CREATED:20241010T042653Z
LAST-MODIFIED:20241010T042653Z
UID:21451-1742677200-1742682600@thepalmcabaret.com
SUMMARY:Mama Tits - Escándalo
DESCRIPTION:Mama is a symphony of humor\, heart\, and high heels. Join her on a whimsical adventure where self-love and authenticity play the lead roles.
URL:https://thepalmcabaret.com/event/mama-tits-escandalo-41/
LOCATION:The Palm Cabaret and Bar\, 508 Olas Altas\, Puerto Vallarta\, JAL\, 48380\, Mexico
ATTACH;FMTTYPE=image/jpeg:https://thepalmcabaret.com/wp-content/uploads/2024/09/f53e1a0011da23979c3d26036d2651ba.jpg
END:VEVENT
END:VCALENDAR