BEGIN:VCALENDAR
VERSION:2.0
PRODID:-//The Palm Cabaret - ECPv6.15.20//NONSGML v1.0//EN
CALSCALE:GREGORIAN
METHOD:PUBLISH
X-ORIGINAL-URL:https://thepalmcabaret.com
X-WR-CALDESC:Events for The Palm Cabaret
REFRESH-INTERVAL;VALUE=DURATION:PT1H
X-Robots-Tag:noindex
X-PUBLISHED-TTL:PT1H
BEGIN:VTIMEZONE
TZID:America/Mexico_City
BEGIN:STANDARD
TZOFFSETFROM:-0600
TZOFFSETTO:-0600
TZNAME:CST
DTSTART:20240101T000000
END:STANDARD
END:VTIMEZONE
BEGIN:VEVENT
DTSTART;TZID=America/Mexico_City:20250304T190000
DTEND;TZID=America/Mexico_City:20250304T200000
DTSTAMP:20260422T084135
CREATED:20241010T035749Z
LAST-MODIFIED:20241010T035749Z
UID:21396-1741114800-1741118400@thepalmcabaret.com
SUMMARY:Sutton Lee Seymour - Witch\, Please!
DESCRIPTION:When you’re a Barbie Girl living in a Barbie World\, there is NO business like SHOW business!
URL:https://thepalmcabaret.com/event/sutton-lee-seymour-witch-please-29/
LOCATION:The Palm Cabaret and Bar\, 508 Olas Altas\, Puerto Vallarta\, JAL\, 48380\, Mexico
ATTACH;FMTTYPE=image/jpeg:https://thepalmcabaret.com/wp-content/uploads/2024/10/34f74aef8cfec86ee0e7af676635744e.jpg
END:VEVENT
BEGIN:VEVENT
DTSTART;TZID=America/Mexico_City:20250304T210000
DTEND;TZID=America/Mexico_City:20250304T220000
DTSTAMP:20260422T084135
CREATED:20250131T211052Z
LAST-MODIFIED:20250131T211052Z
UID:24830-1741122000-1741125600@thepalmcabaret.com
SUMMARY:Well-Strung - the singing string quartet
DESCRIPTION:Come see Well-Strung\, the awesome singing string quartet\, live in concert – it’s gonna be epic!
URL:https://thepalmcabaret.com/event/well-strung-the-singing-string-quartet/
LOCATION:The Palm Cabaret and Bar\, 508 Olas Altas\, Puerto Vallarta\, JAL\, 48380\, Mexico
ATTACH;FMTTYPE=image/jpeg:https://thepalmcabaret.com/wp-content/uploads/2025/01/9fb9ea435ba2f209269bede2c8c16efd.jpg
END:VEVENT
END:VCALENDAR