BEGIN:VCALENDAR
VERSION:2.0
PRODID:-//The Palm Cabaret - ECPv6.15.20//NONSGML v1.0//EN
CALSCALE:GREGORIAN
METHOD:PUBLISH
X-ORIGINAL-URL:https://thepalmcabaret.com
X-WR-CALDESC:Events for The Palm Cabaret
REFRESH-INTERVAL;VALUE=DURATION:PT1H
X-Robots-Tag:noindex
X-PUBLISHED-TTL:PT1H
BEGIN:VTIMEZONE
TZID:America/Mexico_City
BEGIN:STANDARD
TZOFFSETFROM:-0600
TZOFFSETTO:-0600
TZNAME:CST
DTSTART:20240101T000000
END:STANDARD
END:VTIMEZONE
BEGIN:VEVENT
DTSTART;TZID=America/Mexico_City:20250228T170000
DTEND;TZID=America/Mexico_City:20250228T180000
DTSTAMP:20260422T084130
CREATED:20250202T154951Z
LAST-MODIFIED:20250202T154951Z
UID:24893-1740762000-1740765600@thepalmcabaret.com
SUMMARY:Living Legends - Streisand\, Andrews\, Dion\, King\, Ross and more
DESCRIPTION:Mariana Vigueras Restelli\, a versatile Mexican singer with a powerful voice\, has dazzled audiences across genres from Soul and Pop to Opera
URL:https://thepalmcabaret.com/event/living-legends-streisand-andrews-dion-king-ross-and-more-9/
LOCATION:The Palm Cabaret and Bar\, 508 Olas Altas\, Puerto Vallarta\, JAL\, 48380\, Mexico
ATTACH;FMTTYPE=image/jpeg:https://thepalmcabaret.com/wp-content/uploads/2025/01/107cd19ebb8637f271a59fa849cf3118.jpg
END:VEVENT
BEGIN:VEVENT
DTSTART;TZID=America/Mexico_City:20250228T190000
DTEND;TZID=America/Mexico_City:20250228T200000
DTSTAMP:20260422T084130
CREATED:20250221T144214Z
LAST-MODIFIED:20250221T144214Z
UID:25542-1740769200-1740772800@thepalmcabaret.com
SUMMARY:Meghan Murphy - Back to Black
DESCRIPTION:Come join us for a night of soulful music and powerful vocals as Meghan Murphy takes us “Back to Black” the iconic album by Amy Winehouse!
URL:https://thepalmcabaret.com/event/meghan-murphy-back-to-black/
LOCATION:The Palm Cabaret and Bar\, 508 Olas Altas\, Puerto Vallarta\, JAL\, 48380\, Mexico
ATTACH;FMTTYPE=image/jpeg:https://thepalmcabaret.com/wp-content/uploads/2025/02/1a396ac3373b0ba549c322176a67ee32.jpg
END:VEVENT
BEGIN:VEVENT
DTSTART;TZID=America/Mexico_City:20250228T210000
DTEND;TZID=America/Mexico_City:20250228T220000
DTSTAMP:20260422T084130
CREATED:20241010T035749Z
LAST-MODIFIED:20241010T035749Z
UID:21395-1740776400-1740780000@thepalmcabaret.com
SUMMARY:Sutton Lee Seymour - Witch\, Please!
DESCRIPTION:When you’re a Barbie Girl living in a Barbie World\, there is NO business like SHOW business!
URL:https://thepalmcabaret.com/event/sutton-lee-seymour-witch-please-28/
LOCATION:The Palm Cabaret and Bar\, 508 Olas Altas\, Puerto Vallarta\, JAL\, 48380\, Mexico
ATTACH;FMTTYPE=image/jpeg:https://thepalmcabaret.com/wp-content/uploads/2024/10/34f74aef8cfec86ee0e7af676635744e.jpg
END:VEVENT
END:VCALENDAR