BEGIN:VCALENDAR
VERSION:2.0
PRODID:-//The Palm Cabaret - ECPv6.15.20//NONSGML v1.0//EN
CALSCALE:GREGORIAN
METHOD:PUBLISH
X-WR-CALNAME:The Palm Cabaret
X-ORIGINAL-URL:https://thepalmcabaret.com
X-WR-CALDESC:Events for The Palm Cabaret
REFRESH-INTERVAL;VALUE=DURATION:PT1H
X-Robots-Tag:noindex
X-PUBLISHED-TTL:PT1H
BEGIN:VTIMEZONE
TZID:America/Mexico_City
BEGIN:STANDARD
TZOFFSETFROM:-0600
TZOFFSETTO:-0600
TZNAME:CST
DTSTART:20240101T000000
END:STANDARD
END:VTIMEZONE
BEGIN:VEVENT
DTSTART;TZID=America/Mexico_City:20250225T170000
DTEND;TZID=America/Mexico_City:20250225T180000
DTSTAMP:20260422T084418
CREATED:20241203T120049Z
LAST-MODIFIED:20241203T120049Z
UID:23059-1740502800-1740506400@thepalmcabaret.com
SUMMARY:Levi Kreis
DESCRIPTION:An evening with Tony Award winner Levi Kreis
URL:https://thepalmcabaret.com/event/levi-kreis-11/
LOCATION:The Palm Cabaret and Bar\, 508 Olas Altas\, Puerto Vallarta\, JAL\, 48380\, Mexico
ATTACH;FMTTYPE=image/jpeg:https://thepalmcabaret.com/wp-content/uploads/2024/12/d48da461fb8b2a08d61423e18e76cd85.jpg
END:VEVENT
BEGIN:VEVENT
DTSTART;TZID=America/Mexico_City:20250225T190000
DTEND;TZID=America/Mexico_City:20250225T200000
DTSTAMP:20260422T084418
CREATED:20241010T035749Z
LAST-MODIFIED:20241010T035749Z
UID:21394-1740510000-1740513600@thepalmcabaret.com
SUMMARY:Sutton Lee Seymour - Witch\, Please!
DESCRIPTION:When you’re a Barbie Girl living in a Barbie World\, there is NO business like SHOW business!
URL:https://thepalmcabaret.com/event/sutton-lee-seymour-witch-please-27/
LOCATION:The Palm Cabaret and Bar\, 508 Olas Altas\, Puerto Vallarta\, JAL\, 48380\, Mexico
ATTACH;FMTTYPE=image/jpeg:https://thepalmcabaret.com/wp-content/uploads/2024/10/34f74aef8cfec86ee0e7af676635744e.jpg
END:VEVENT
END:VCALENDAR