BEGIN:VCALENDAR
VERSION:2.0
PRODID:-//The Palm Cabaret - ECPv6.15.20//NONSGML v1.0//EN
CALSCALE:GREGORIAN
METHOD:PUBLISH
X-ORIGINAL-URL:https://thepalmcabaret.com
X-WR-CALDESC:Events for The Palm Cabaret
REFRESH-INTERVAL;VALUE=DURATION:PT1H
X-Robots-Tag:noindex
X-PUBLISHED-TTL:PT1H
BEGIN:VTIMEZONE
TZID:America/Mexico_City
BEGIN:STANDARD
TZOFFSETFROM:-0600
TZOFFSETTO:-0600
TZNAME:CST
DTSTART:20240101T000000
END:STANDARD
END:VTIMEZONE
BEGIN:VEVENT
DTSTART;TZID=America/Mexico_City:20250222T170000
DTEND;TZID=America/Mexico_City:20250222T180000
DTSTAMP:20260422T184111
CREATED:20250209T181642Z
LAST-MODIFIED:20250209T181642Z
UID:25161-1740243600-1740247200@thepalmcabaret.com
SUMMARY:Delta Miles Is Judy Garland Live
DESCRIPTION:Delta Miles delivers a spellbinding performance that celebrates the life\, music\, and legacy of one of the greatest entertainers of all time.
URL:https://thepalmcabaret.com/event/delta-miles-is-judy-garland-live-9/
LOCATION:The Palm Cabaret and Bar\, 508 Olas Altas\, Puerto Vallarta\, JAL\, 48380\, Mexico
ATTACH;FMTTYPE=image/jpeg:https://thepalmcabaret.com/wp-content/uploads/2024/10/84dc6e9c714080e1df49eefd456e45a0.jpg
END:VEVENT
BEGIN:VEVENT
DTSTART;TZID=America/Mexico_City:20250222T190000
DTEND;TZID=America/Mexico_City:20250222T200000
DTSTAMP:20260422T184111
CREATED:20241203T120049Z
LAST-MODIFIED:20241203T120049Z
UID:23058-1740250800-1740254400@thepalmcabaret.com
SUMMARY:Levi Kreis
DESCRIPTION:An evening with Tony Award winner Levi Kreis
URL:https://thepalmcabaret.com/event/levi-kreis-10/
LOCATION:The Palm Cabaret and Bar\, 508 Olas Altas\, Puerto Vallarta\, JAL\, 48380\, Mexico
ATTACH;FMTTYPE=image/jpeg:https://thepalmcabaret.com/wp-content/uploads/2024/12/d48da461fb8b2a08d61423e18e76cd85.jpg
END:VEVENT
BEGIN:VEVENT
DTSTART;TZID=America/Mexico_City:20250222T210000
DTEND;TZID=America/Mexico_City:20250222T223000
DTSTAMP:20260422T184111
CREATED:20241010T042651Z
LAST-MODIFIED:20241010T042651Z
UID:21443-1740258000-1740263400@thepalmcabaret.com
SUMMARY:Mama Tits - Escándalo
DESCRIPTION:Mama is a symphony of humor\, heart\, and high heels. Join her on a whimsical adventure where self-love and authenticity play the lead roles.
URL:https://thepalmcabaret.com/event/mama-tits-escandalo-33/
LOCATION:The Palm Cabaret and Bar\, 508 Olas Altas\, Puerto Vallarta\, JAL\, 48380\, Mexico
ATTACH;FMTTYPE=image/jpeg:https://thepalmcabaret.com/wp-content/uploads/2024/09/f53e1a0011da23979c3d26036d2651ba.jpg
END:VEVENT
END:VCALENDAR