BEGIN:VCALENDAR
VERSION:2.0
PRODID:-//The Palm Cabaret - ECPv6.15.20//NONSGML v1.0//EN
CALSCALE:GREGORIAN
METHOD:PUBLISH
X-WR-CALNAME:The Palm Cabaret
X-ORIGINAL-URL:https://thepalmcabaret.com
X-WR-CALDESC:Events for The Palm Cabaret
REFRESH-INTERVAL;VALUE=DURATION:PT1H
X-Robots-Tag:noindex
X-PUBLISHED-TTL:PT1H
BEGIN:VTIMEZONE
TZID:America/Mexico_City
BEGIN:STANDARD
TZOFFSETFROM:-0600
TZOFFSETTO:-0600
TZNAME:CST
DTSTART:20240101T000000
END:STANDARD
END:VTIMEZONE
BEGIN:VEVENT
DTSTART;TZID=America/Mexico_City:20250127T170000
DTEND;TZID=America/Mexico_City:20250127T180000
DTSTAMP:20260422T100747
CREATED:20250116T180019Z
LAST-MODIFIED:20250116T180019Z
UID:24132-1737997200-1738000800@thepalmcabaret.com
SUMMARY:Sol Rose - tribute to Frank Sinatra
DESCRIPTION:Sol Rose is OL’ BLUE EYES a tribute to Frank Sinatra
URL:https://thepalmcabaret.com/event/sol-rose-tribute-to-frank-sinatra-3/
LOCATION:The Palm Cabaret and Bar\, 508 Olas Altas\, Puerto Vallarta\, JAL\, 48380\, Mexico
ATTACH;FMTTYPE=image/jpeg:https://thepalmcabaret.com/wp-content/uploads/2025/01/0269f7ac51e7051885af1fbc1a90db3a.jpg
END:VEVENT
BEGIN:VEVENT
DTSTART;TZID=America/Mexico_City:20250127T210000
DTEND;TZID=America/Mexico_City:20250127T220000
DTSTAMP:20260422T100747
CREATED:20240918T133317Z
LAST-MODIFIED:20241223T143040Z
UID:20757-1738011600-1738015200@thepalmcabaret.com
SUMMARY:Miss Conception - 25
DESCRIPTION:Kevin Levesque as Miss Conception\, celebrates 25 year in showbiz\, 25 costume changes. All live singing!
URL:https://thepalmcabaret.com/event/miss-conception-25-19/
LOCATION:The Palm Cabaret and Bar\, 508 Olas Altas\, Puerto Vallarta\, JAL\, 48380\, Mexico
ATTACH;FMTTYPE=image/jpeg:https://thepalmcabaret.com/wp-content/uploads/2024/09/9615b7e33e07b7c8cb9e34d1f88a899e.jpg
END:VEVENT
END:VCALENDAR