BEGIN:VCALENDAR
VERSION:2.0
PRODID:-//The Palm Cabaret - ECPv6.15.20//NONSGML v1.0//EN
CALSCALE:GREGORIAN
METHOD:PUBLISH
X-ORIGINAL-URL:https://thepalmcabaret.com
X-WR-CALDESC:Events for The Palm Cabaret
REFRESH-INTERVAL;VALUE=DURATION:PT1H
X-Robots-Tag:noindex
X-PUBLISHED-TTL:PT1H
BEGIN:VTIMEZONE
TZID:America/Mexico_City
BEGIN:STANDARD
TZOFFSETFROM:-0600
TZOFFSETTO:-0600
TZNAME:CST
DTSTART:20230101T000000
END:STANDARD
END:VTIMEZONE
BEGIN:VEVENT
DTSTART;TZID=America/Mexico_City:20241129T170000
DTEND;TZID=America/Mexico_City:20241129T180000
DTSTAMP:20260422T084125
CREATED:20240903T054235Z
LAST-MODIFIED:20241015T160108Z
UID:20178-1732899600-1732903200@thepalmcabaret.com
SUMMARY:Buenos Aires - A Tango Murder Mystery
DESCRIPTION:Through dance\, drama\, passion and  betrayal a murder mystery comes into play as you discover the darkest side of all the characters.
URL:https://thepalmcabaret.com/event/buenos-aires-a-tango-murder-mystery-8/
LOCATION:The Palm Cabaret and Bar\, 508 Olas Altas\, Puerto Vallarta\, JAL\, 48380\, Mexico
ATTACH;FMTTYPE=image/jpeg:https://thepalmcabaret.com/wp-content/uploads/2024/09/3616972c06adbab0a25b8c4b405c7eda.jpg
END:VEVENT
BEGIN:VEVENT
DTSTART;TZID=America/Mexico_City:20241129T210000
DTEND;TZID=America/Mexico_City:20241129T220000
DTSTAMP:20260422T084125
CREATED:20241010T035746Z
LAST-MODIFIED:20241010T035746Z
UID:21370-1732914000-1732917600@thepalmcabaret.com
SUMMARY:Sutton Lee Seymour - Witch\, Please!
DESCRIPTION:When you’re a Barbie Girl living in a Barbie World\, there is NO business like SHOW business!
URL:https://thepalmcabaret.com/event/sutton-lee-seymour-witch-please-3/
LOCATION:The Palm Cabaret and Bar\, 508 Olas Altas\, Puerto Vallarta\, JAL\, 48380\, Mexico
ATTACH;FMTTYPE=image/jpeg:https://thepalmcabaret.com/wp-content/uploads/2024/10/34f74aef8cfec86ee0e7af676635744e.jpg
END:VEVENT
END:VCALENDAR