BEGIN:VCALENDAR
VERSION:2.0
PRODID:-//The Palm Cabaret - ECPv6.15.20//NONSGML v1.0//EN
CALSCALE:GREGORIAN
METHOD:PUBLISH
X-ORIGINAL-URL:https://thepalmcabaret.com
X-WR-CALDESC:Events for The Palm Cabaret
REFRESH-INTERVAL;VALUE=DURATION:PT1H
X-Robots-Tag:noindex
X-PUBLISHED-TTL:PT1H
BEGIN:VTIMEZONE
TZID:America/Mexico_City
BEGIN:STANDARD
TZOFFSETFROM:-0600
TZOFFSETTO:-0600
TZNAME:CST
DTSTART:20230101T000000
END:STANDARD
END:VTIMEZONE
BEGIN:VEVENT
DTSTART;TZID=America/Mexico_City:20240516T193000
DTEND;TZID=America/Mexico_City:20240516T210000
DTSTAMP:20260422T100928
CREATED:20240317T003254Z
LAST-MODIFIED:20240317T003254Z
UID:16581-1715887800-1715893200@thepalmcabaret.com
SUMMARY:Hedwig And The Angry Inch
DESCRIPTION:Is a critically acclaimed and multiple Tony Award-winning Broadway rock theater hit\, which tells the story of Hedwig
URL:https://thepalmcabaret.com/event/hedwig-and-the-angry-inch-3/
LOCATION:The Palm Cabaret and Bar\, 508 Olas Altas\, Puerto Vallarta\, JAL\, 48380\, Mexico
ATTACH;FMTTYPE=image/jpeg:https://thepalmcabaret.com/wp-content/uploads/2024/03/576edd8f70308e9458a7d61d06fdc9b0.jpg
END:VEVENT
END:VCALENDAR