BEGIN:VCALENDAR
VERSION:2.0
PRODID:-//The Palm Cabaret - ECPv6.15.20//NONSGML v1.0//EN
CALSCALE:GREGORIAN
METHOD:PUBLISH
X-WR-CALNAME:The Palm Cabaret
X-ORIGINAL-URL:https://thepalmcabaret.com
X-WR-CALDESC:Events for The Palm Cabaret
REFRESH-INTERVAL;VALUE=DURATION:PT1H
X-Robots-Tag:noindex
X-PUBLISHED-TTL:PT1H
BEGIN:VTIMEZONE
TZID:America/Mexico_City
BEGIN:STANDARD
TZOFFSETFROM:-0600
TZOFFSETTO:-0600
TZNAME:CST
DTSTART:20230101T000000
END:STANDARD
END:VTIMEZONE
BEGIN:VEVENT
DTSTART;TZID=America/Mexico_City:20240502T170000
DTEND;TZID=America/Mexico_City:20240502T180000
DTSTAMP:20260422T130532
CREATED:20240417T182610Z
LAST-MODIFIED:20240429T180228Z
UID:17465-1714669200-1714672800@thepalmcabaret.com
SUMMARY:The Kinsey Sicks
DESCRIPTION:The Kinsey Sicks – Deep Inside Tonight!
URL:https://thepalmcabaret.com/event/the-kinsey-sicks-6/
LOCATION:The Palm Cabaret and Bar\, 508 Olas Altas\, Puerto Vallarta\, JAL\, 48380\, Mexico
ATTACH;FMTTYPE=image/jpeg:https://thepalmcabaret.com/wp-content/uploads/2024/02/3a571a95117f1e8a6c525cb19e0336dc.jpg
END:VEVENT
BEGIN:VEVENT
DTSTART;TZID=America/Mexico_City:20240502T193000
DTEND;TZID=America/Mexico_City:20240502T210000
DTSTAMP:20260422T130532
CREATED:20240317T003253Z
LAST-MODIFIED:20240317T003253Z
UID:16578-1714678200-1714683600@thepalmcabaret.com
SUMMARY:Hedwig And The Angry Inch
DESCRIPTION:Is a critically acclaimed and multiple Tony Award-winning Broadway rock theater hit\, which tells the story of Hedwig
URL:https://thepalmcabaret.com/event/hedwig-and-the-angry-inch/
LOCATION:The Palm Cabaret and Bar\, 508 Olas Altas\, Puerto Vallarta\, JAL\, 48380\, Mexico
ATTACH;FMTTYPE=image/jpeg:https://thepalmcabaret.com/wp-content/uploads/2024/03/576edd8f70308e9458a7d61d06fdc9b0.jpg
END:VEVENT
END:VCALENDAR