BEGIN:VCALENDAR
VERSION:2.0
PRODID:-//The Palm Cabaret - ECPv6.15.20//NONSGML v1.0//EN
CALSCALE:GREGORIAN
METHOD:PUBLISH
X-ORIGINAL-URL:https://thepalmcabaret.com
X-WR-CALDESC:Events for The Palm Cabaret
REFRESH-INTERVAL;VALUE=DURATION:PT1H
X-Robots-Tag:noindex
X-PUBLISHED-TTL:PT1H
BEGIN:VTIMEZONE
TZID:America/Mexico_City
BEGIN:STANDARD
TZOFFSETFROM:-0600
TZOFFSETTO:-0600
TZNAME:CST
DTSTART:20230101T000000
END:STANDARD
END:VTIMEZONE
BEGIN:VEVENT
DTSTART;TZID=America/Mexico_City:20240423T180000
DTEND;TZID=America/Mexico_City:20240423T190000
DTSTAMP:20260425T054726
CREATED:20240417T052732Z
LAST-MODIFIED:20240417T052732Z
UID:17423-1713895200-1713898800@thepalmcabaret.com
SUMMARY:Diana Villamonte - I Will Always Love You
DESCRIPTION:I WILL ALWAYS LOVE YOU is a beyond spectacular tribute by Diana Villamonte to  the one and only Whitney Houston.
URL:https://thepalmcabaret.com/event/diana-villamonte-i-will-always-love-you-20/
LOCATION:The Palm Cabaret and Bar\, 508 Olas Altas\, Puerto Vallarta\, JAL\, 48380\, Mexico
ATTACH;FMTTYPE=image/jpeg:https://thepalmcabaret.com/wp-content/uploads/2023/09/6f4a0d98bbb7916d9812f723a0455a9e.jpg
END:VEVENT
BEGIN:VEVENT
DTSTART;TZID=America/Mexico_City:20240423T200000
DTEND;TZID=America/Mexico_City:20240423T210000
DTSTAMP:20260425T054726
CREATED:20240224T072210Z
LAST-MODIFIED:20240225T213127Z
UID:15798-1713902400-1713906000@thepalmcabaret.com
SUMMARY:The Kinsey Sicks
DESCRIPTION:The Kinsey Sicks – Deep Inside Tonight!
URL:https://thepalmcabaret.com/event/the-kinsey-sicks-3/
LOCATION:The Palm Cabaret and Bar\, 508 Olas Altas\, Puerto Vallarta\, JAL\, 48380\, Mexico
ATTACH;FMTTYPE=image/jpeg:https://thepalmcabaret.com/wp-content/uploads/2024/02/3a571a95117f1e8a6c525cb19e0336dc.jpg
END:VEVENT
BEGIN:VEVENT
DTSTART;TZID=America/Mexico_City:20240423T213000
DTEND;TZID=America/Mexico_City:20240423T223000
DTSTAMP:20260425T054726
CREATED:20240214T163232Z
LAST-MODIFIED:20240315T190249Z
UID:15507-1713907800-1713911400@thepalmcabaret.com
SUMMARY:Sutton Lee Seymour - Broadway Barbie
DESCRIPTION:When you’re a Barbie Girl living in a Barbie World\, there is NO business like SHOW business!
URL:https://thepalmcabaret.com/event/sutton-lee-seymour-broadway-barbie-44/
LOCATION:The Palm Cabaret and Bar\, 508 Olas Altas\, Puerto Vallarta\, JAL\, 48380\, Mexico
ATTACH;FMTTYPE=image/jpeg:https://thepalmcabaret.com/wp-content/uploads/2023/09/82bce1b2152ec519a3e9ebf0962b5374.jpg
END:VEVENT
END:VCALENDAR