BEGIN:VCALENDAR
VERSION:2.0
PRODID:-//The Palm Cabaret - ECPv6.15.20//NONSGML v1.0//EN
CALSCALE:GREGORIAN
METHOD:PUBLISH
X-ORIGINAL-URL:https://thepalmcabaret.com
X-WR-CALDESC:Events for The Palm Cabaret
REFRESH-INTERVAL;VALUE=DURATION:PT1H
X-Robots-Tag:noindex
X-PUBLISHED-TTL:PT1H
BEGIN:VTIMEZONE
TZID:America/Mexico_City
BEGIN:STANDARD
TZOFFSETFROM:-0600
TZOFFSETTO:-0600
TZNAME:CST
DTSTART:20230101T000000
END:STANDARD
END:VTIMEZONE
BEGIN:VEVENT
DTSTART;TZID=America/Mexico_City:20240416T200000
DTEND;TZID=America/Mexico_City:20240416T210000
DTSTAMP:20260425T090632
CREATED:20240224T072209Z
LAST-MODIFIED:20240225T213126Z
UID:15795-1713297600-1713301200@thepalmcabaret.com
SUMMARY:The Kinsey Sicks
DESCRIPTION:The Kinsey Sicks – Deep Inside Tonight!
URL:https://thepalmcabaret.com/event/the-kinsey-sicks/
LOCATION:The Palm Cabaret and Bar\, 508 Olas Altas\, Puerto Vallarta\, JAL\, 48380\, Mexico
ATTACH;FMTTYPE=image/jpeg:https://thepalmcabaret.com/wp-content/uploads/2024/02/3a571a95117f1e8a6c525cb19e0336dc.jpg
END:VEVENT
BEGIN:VEVENT
DTSTART;TZID=America/Mexico_City:20240416T213000
DTEND;TZID=America/Mexico_City:20240416T223000
DTSTAMP:20260425T090632
CREATED:20240214T163232Z
LAST-MODIFIED:20240315T190249Z
UID:15506-1713303000-1713306600@thepalmcabaret.com
SUMMARY:Sutton Lee Seymour - Broadway Barbie
DESCRIPTION:When you’re a Barbie Girl living in a Barbie World\, there is NO business like SHOW business!
URL:https://thepalmcabaret.com/event/sutton-lee-seymour-broadway-barbie-43/
LOCATION:The Palm Cabaret and Bar\, 508 Olas Altas\, Puerto Vallarta\, JAL\, 48380\, Mexico
ATTACH;FMTTYPE=image/jpeg:https://thepalmcabaret.com/wp-content/uploads/2023/09/82bce1b2152ec519a3e9ebf0962b5374.jpg
END:VEVENT
END:VCALENDAR