BEGIN:VCALENDAR
VERSION:2.0
PRODID:-//The Palm Cabaret - ECPv6.15.20//NONSGML v1.0//EN
CALSCALE:GREGORIAN
METHOD:PUBLISH
X-ORIGINAL-URL:https://thepalmcabaret.com
X-WR-CALDESC:Events for The Palm Cabaret
REFRESH-INTERVAL;VALUE=DURATION:PT1H
X-Robots-Tag:noindex
X-PUBLISHED-TTL:PT1H
BEGIN:VTIMEZONE
TZID:America/Mexico_City
BEGIN:STANDARD
TZOFFSETFROM:-0600
TZOFFSETTO:-0600
TZNAME:CST
DTSTART:20230101T000000
END:STANDARD
END:VTIMEZONE
BEGIN:VEVENT
DTSTART;TZID=America/Mexico_City:20240415T200000
DTEND;TZID=America/Mexico_City:20240415T210000
DTSTAMP:20260423T082241
CREATED:20240316T010451Z
LAST-MODIFIED:20240316T010451Z
UID:16537-1713211200-1713214800@thepalmcabaret.com
SUMMARY:Nadia Turner
DESCRIPTION:Soul & rock legends unplugged: a tribute across time
URL:https://thepalmcabaret.com/event/nadia-turner/
LOCATION:The Palm Cabaret and Bar\, 508 Olas Altas\, Puerto Vallarta\, JAL\, 48380\, Mexico
ATTACH;FMTTYPE=image/jpeg:https://thepalmcabaret.com/wp-content/uploads/2024/03/e0d349c312bfab26ea1b25cada634b89.jpg
END:VEVENT
BEGIN:VEVENT
DTSTART;TZID=America/Mexico_City:20240415T213000
DTEND;TZID=America/Mexico_City:20240415T223000
DTSTAMP:20260423T082241
CREATED:20240312T203917Z
LAST-MODIFIED:20240312T203917Z
UID:16387-1713216600-1713220200@thepalmcabaret.com
SUMMARY:Madonna - Tribute Concert
DESCRIPTION:Madonna Tribute starring Waleska\, with a sweet repertoire for Madonna fans that will exceed all expectations.
URL:https://thepalmcabaret.com/event/madonna-tribute-concert-4/
LOCATION:The Palm Cabaret and Bar\, 508 Olas Altas\, Puerto Vallarta\, JAL\, 48380\, Mexico
ATTACH;FMTTYPE=image/jpeg:https://thepalmcabaret.com/wp-content/uploads/2024/03/6c6a69011289e48c8cc2f204e4f3ffeb.jpg
END:VEVENT
END:VCALENDAR