BEGIN:VCALENDAR
VERSION:2.0
PRODID:-//The Palm Cabaret - ECPv6.15.20//NONSGML v1.0//EN
CALSCALE:GREGORIAN
METHOD:PUBLISH
X-ORIGINAL-URL:https://thepalmcabaret.com
X-WR-CALDESC:Events for The Palm Cabaret
REFRESH-INTERVAL;VALUE=DURATION:PT1H
X-Robots-Tag:noindex
X-PUBLISHED-TTL:PT1H
BEGIN:VTIMEZONE
TZID:America/Mexico_City
BEGIN:STANDARD
TZOFFSETFROM:-0600
TZOFFSETTO:-0600
TZNAME:CST
DTSTART:20230101T000000
END:STANDARD
END:VTIMEZONE
BEGIN:VEVENT
DTSTART;TZID=America/Mexico_City:20240405T213000
DTEND;TZID=America/Mexico_City:20240405T223000
DTSTAMP:20260423T082101
CREATED:20230921T025159Z
LAST-MODIFIED:20240315T190249Z
UID:12062-1712352600-1712356200@thepalmcabaret.com
SUMMARY:Sutton Lee Seymour - Broadway Barbie
DESCRIPTION:When you’re a Barbie Girl living in a Barbie World\, there is NO business like SHOW business!
URL:https://thepalmcabaret.com/event/sutton-lee-seymour-broadway-barbie-39/
LOCATION:The Palm Cabaret and Bar\, 508 Olas Altas\, Puerto Vallarta\, JAL\, 48380\, Mexico
ATTACH;FMTTYPE=image/jpeg:https://thepalmcabaret.com/wp-content/uploads/2023/09/82bce1b2152ec519a3e9ebf0962b5374.jpg
END:VEVENT
END:VCALENDAR