BEGIN:VCALENDAR
VERSION:2.0
PRODID:-//The Palm Cabaret - ECPv6.15.20//NONSGML v1.0//EN
CALSCALE:GREGORIAN
METHOD:PUBLISH
X-ORIGINAL-URL:https://thepalmcabaret.com
X-WR-CALDESC:Events for The Palm Cabaret
REFRESH-INTERVAL;VALUE=DURATION:PT1H
X-Robots-Tag:noindex
X-PUBLISHED-TTL:PT1H
BEGIN:VTIMEZONE
TZID:America/Mexico_City
BEGIN:STANDARD
TZOFFSETFROM:-0600
TZOFFSETTO:-0600
TZNAME:CST
DTSTART:20230101T000000
END:STANDARD
END:VTIMEZONE
BEGIN:VEVENT
DTSTART;TZID=America/Mexico_City:20240404T200000
DTEND;TZID=America/Mexico_City:20240404T210000
DTSTAMP:20260421T152507
CREATED:20230920T164346Z
LAST-MODIFIED:20240125T152723Z
UID:11981-1712260800-1712264400@thepalmcabaret.com
SUMMARY:Miss Conception - Tooned Out
DESCRIPTION:Kevin Levesque as Miss Conception\, Featuring Barbie\, Scooby Doo\, Inspector Gadget\, Rainbow Brite\, Jessica Rabbit and so many more.
URL:https://thepalmcabaret.com/event/miss-conception-tooned-out-36/
LOCATION:The Palm Cabaret and Bar\, 508 Olas Altas\, Puerto Vallarta\, JAL\, 48380\, Mexico
ATTACH;FMTTYPE=image/jpeg:https://thepalmcabaret.com/wp-content/uploads/2023/09/de86e7ec7b4d3757d7cc064017f66d45.jpg
END:VEVENT
END:VCALENDAR