BEGIN:VCALENDAR
VERSION:2.0
PRODID:-//The Palm Cabaret - ECPv6.15.20//NONSGML v1.0//EN
CALSCALE:GREGORIAN
METHOD:PUBLISH
X-WR-CALNAME:The Palm Cabaret
X-ORIGINAL-URL:https://thepalmcabaret.com
X-WR-CALDESC:Events for The Palm Cabaret
REFRESH-INTERVAL;VALUE=DURATION:PT1H
X-Robots-Tag:noindex
X-PUBLISHED-TTL:PT1H
BEGIN:VTIMEZONE
TZID:America/Mexico_City
BEGIN:STANDARD
TZOFFSETFROM:-0600
TZOFFSETTO:-0600
TZNAME:CST
DTSTART:20230101T000000
END:STANDARD
END:VTIMEZONE
BEGIN:VEVENT
DTSTART;TZID=America/Mexico_City:20240301T180000
DTEND;TZID=America/Mexico_City:20240301T190000
DTSTAMP:20260423T144836
CREATED:20230925T200030Z
LAST-MODIFIED:20230925T200030Z
UID:12159-1709316000-1709319600@thepalmcabaret.com
SUMMARY:Levi Kreis
DESCRIPTION:An evening with Tony Award winner Levi Kreis
URL:https://thepalmcabaret.com/event/levi-kreis-3/
LOCATION:The Palm Cabaret and Bar\, 508 Olas Altas\, Puerto Vallarta\, JAL\, 48380\, Mexico
ATTACH;FMTTYPE=image/jpeg:https://thepalmcabaret.com/wp-content/uploads/2023/09/62e00ce412cf82456c59764358e02fcb.jpg
END:VEVENT
BEGIN:VEVENT
DTSTART;TZID=America/Mexico_City:20240301T213000
DTEND;TZID=America/Mexico_City:20240301T223000
DTSTAMP:20260423T144836
CREATED:20231231T160637Z
LAST-MODIFIED:20231231T160637Z
UID:14416-1709328600-1709332200@thepalmcabaret.com
SUMMARY:Sutton Lee Seymour - Broadway Barbie
DESCRIPTION:When you’re a Barbie Girl living in a Barbie World\, there is NO business like SHOW business!
URL:https://thepalmcabaret.com/event/sutton-lee-seymour-broadway-barbie-42/
LOCATION:The Palm Cabaret and Bar\, 508 Olas Altas\, Puerto Vallarta\, JAL\, 48380\, Mexico
ATTACH;FMTTYPE=image/jpeg:https://thepalmcabaret.com/wp-content/uploads/2023/09/82bce1b2152ec519a3e9ebf0962b5374.jpg
END:VEVENT
END:VCALENDAR