BEGIN:VCALENDAR
VERSION:2.0
PRODID:-//The Palm Cabaret - ECPv6.15.20//NONSGML v1.0//EN
CALSCALE:GREGORIAN
METHOD:PUBLISH
X-WR-CALNAME:The Palm Cabaret
X-ORIGINAL-URL:https://thepalmcabaret.com
X-WR-CALDESC:Events for The Palm Cabaret
REFRESH-INTERVAL;VALUE=DURATION:PT1H
X-Robots-Tag:noindex
X-PUBLISHED-TTL:PT1H
BEGIN:VTIMEZONE
TZID:America/Mexico_City
BEGIN:STANDARD
TZOFFSETFROM:-0600
TZOFFSETTO:-0600
TZNAME:CST
DTSTART:20230101T000000
END:STANDARD
END:VTIMEZONE
BEGIN:VEVENT
DTSTART;TZID=America/Mexico_City:20240229T180000
DTEND;TZID=America/Mexico_City:20240229T190000
DTSTAMP:20260423T144841
CREATED:20240129T165409Z
LAST-MODIFIED:20240222T230024Z
UID:15133-1709229600-1709233200@thepalmcabaret.com
SUMMARY:Enrique de Allende
DESCRIPTION:Enrique de Allende
URL:https://thepalmcabaret.com/event/enrique-de-allende-5/
LOCATION:The Palm Cabaret and Bar\, 508 Olas Altas\, Puerto Vallarta\, JAL\, 48380\, Mexico
ATTACH;FMTTYPE=image/jpeg:https://thepalmcabaret.com/wp-content/uploads/2024/01/64050060fdb7ad2ef0309c24128b31ee.jpg
END:VEVENT
BEGIN:VEVENT
DTSTART;TZID=America/Mexico_City:20240229T200000
DTEND;TZID=America/Mexico_City:20240229T210000
DTSTAMP:20260423T144841
CREATED:20230920T164345Z
LAST-MODIFIED:20240125T152722Z
UID:11971-1709236800-1709240400@thepalmcabaret.com
SUMMARY:Miss Conception - Tooned Out
DESCRIPTION:Kevin Levesque as Miss Conception\, Featuring Barbie\, Scooby Doo\, Inspector Gadget\, Rainbow Brite\, Jessica Rabbit and so many more.
URL:https://thepalmcabaret.com/event/miss-conception-tooned-out-26/
LOCATION:The Palm Cabaret and Bar\, 508 Olas Altas\, Puerto Vallarta\, JAL\, 48380\, Mexico
ATTACH;FMTTYPE=image/jpeg:https://thepalmcabaret.com/wp-content/uploads/2023/09/de86e7ec7b4d3757d7cc064017f66d45.jpg
END:VEVENT
END:VCALENDAR