BEGIN:VCALENDAR
VERSION:2.0
PRODID:-//The Palm Cabaret - ECPv6.15.20//NONSGML v1.0//EN
CALSCALE:GREGORIAN
METHOD:PUBLISH
X-ORIGINAL-URL:https://thepalmcabaret.com
X-WR-CALDESC:Events for The Palm Cabaret
REFRESH-INTERVAL;VALUE=DURATION:PT1H
X-Robots-Tag:noindex
X-PUBLISHED-TTL:PT1H
BEGIN:VTIMEZONE
TZID:America/Mexico_City
BEGIN:STANDARD
TZOFFSETFROM:-0600
TZOFFSETTO:-0600
TZNAME:CST
DTSTART:20230101T000000
END:STANDARD
END:VTIMEZONE
BEGIN:VEVENT
DTSTART;TZID=America/Mexico_City:20240227T180000
DTEND;TZID=America/Mexico_City:20240227T190000
DTSTAMP:20260423T082105
CREATED:20240125T183647Z
LAST-MODIFIED:20240125T183647Z
UID:15033-1709056800-1709060400@thepalmcabaret.com
SUMMARY:Diana Villamonte - I Will Always Love You
DESCRIPTION:I WILL ALWAYS LOVE YOU is a beyond spectacular tribute by Diana Villamonte to  the one and only Whitney Houston.
URL:https://thepalmcabaret.com/event/diana-villamonte-i-will-always-love-you-13/
LOCATION:The Palm Cabaret and Bar\, 508 Olas Altas\, Puerto Vallarta\, JAL\, 48380\, Mexico
ATTACH;FMTTYPE=image/jpeg:https://thepalmcabaret.com/wp-content/uploads/2023/09/6f4a0d98bbb7916d9812f723a0455a9e.jpg
END:VEVENT
BEGIN:VEVENT
DTSTART;TZID=America/Mexico_City:20240227T200000
DTEND;TZID=America/Mexico_City:20240227T210000
DTSTAMP:20260423T082105
CREATED:20230921T025158Z
LAST-MODIFIED:20230921T025158Z
UID:12051-1709064000-1709067600@thepalmcabaret.com
SUMMARY:Sutton Lee Seymour - Broadway Barbie
DESCRIPTION:When you’re a Barbie Girl living in a Barbie World\, there is NO business like SHOW business!
URL:https://thepalmcabaret.com/event/sutton-lee-seymour-broadway-barbie-28/
LOCATION:The Palm Cabaret and Bar\, 508 Olas Altas\, Puerto Vallarta\, JAL\, 48380\, Mexico
ATTACH;FMTTYPE=image/jpeg:https://thepalmcabaret.com/wp-content/uploads/2023/09/82bce1b2152ec519a3e9ebf0962b5374.jpg
END:VEVENT
BEGIN:VEVENT
DTSTART;TZID=America/Mexico_City:20240227T213000
DTEND;TZID=America/Mexico_City:20240227T223000
DTSTAMP:20260423T082105
CREATED:20231014T212620Z
LAST-MODIFIED:20231014T212620Z
UID:12851-1709069400-1709073000@thepalmcabaret.com
SUMMARY:Mama Tits - Guts & Glitter
DESCRIPTION:Mama is a symphony of humor\, heart\, and high heels. Join her on a whimsical adventure where self-love and authenticity play the lead roles.
URL:https://thepalmcabaret.com/event/mama-tits-guts-glitter-38/
LOCATION:The Palm Cabaret and Bar\, 508 Olas Altas\, Puerto Vallarta\, JAL\, 48380\, Mexico
ATTACH;FMTTYPE=image/jpeg:https://thepalmcabaret.com/wp-content/uploads/2023/09/9da0ddd802525b4b3d399f8124c2e77f.jpg
END:VEVENT
END:VCALENDAR