BEGIN:VCALENDAR
VERSION:2.0
PRODID:-//The Palm Cabaret - ECPv6.15.20//NONSGML v1.0//EN
CALSCALE:GREGORIAN
METHOD:PUBLISH
X-WR-CALNAME:The Palm Cabaret
X-ORIGINAL-URL:https://thepalmcabaret.com
X-WR-CALDESC:Events for The Palm Cabaret
REFRESH-INTERVAL;VALUE=DURATION:PT1H
X-Robots-Tag:noindex
X-PUBLISHED-TTL:PT1H
BEGIN:VTIMEZONE
TZID:America/Mexico_City
BEGIN:STANDARD
TZOFFSETFROM:-0600
TZOFFSETTO:-0600
TZNAME:CST
DTSTART:20230101T000000
END:STANDARD
END:VTIMEZONE
BEGIN:VEVENT
DTSTART;TZID=America/Mexico_City:20240222T180000
DTEND;TZID=America/Mexico_City:20240222T190000
DTSTAMP:20260423T194540
CREATED:20231219T050335Z
LAST-MODIFIED:20231219T050335Z
UID:14199-1708624800-1708628400@thepalmcabaret.com
SUMMARY:Branden & James
DESCRIPTION:epic songs\, fun stories
URL:https://thepalmcabaret.com/event/branden-james-6/
LOCATION:The Palm Cabaret and Bar\, 508 Olas Altas\, Puerto Vallarta\, JAL\, 48380\, Mexico
ATTACH;FMTTYPE=image/jpeg:https://thepalmcabaret.com/wp-content/uploads/2023/12/af93dc09b6d6bd73ebad89936c953243.jpg
END:VEVENT
BEGIN:VEVENT
DTSTART;TZID=America/Mexico_City:20240222T200000
DTEND;TZID=America/Mexico_City:20240222T210000
DTSTAMP:20260423T194540
CREATED:20230920T164345Z
LAST-MODIFIED:20240125T152721Z
UID:11969-1708632000-1708635600@thepalmcabaret.com
SUMMARY:Miss Conception - Tooned Out
DESCRIPTION:Kevin Levesque as Miss Conception\, Featuring Barbie\, Scooby Doo\, Inspector Gadget\, Rainbow Brite\, Jessica Rabbit and so many more.
URL:https://thepalmcabaret.com/event/miss-conception-tooned-out-24/
LOCATION:The Palm Cabaret and Bar\, 508 Olas Altas\, Puerto Vallarta\, JAL\, 48380\, Mexico
ATTACH;FMTTYPE=image/jpeg:https://thepalmcabaret.com/wp-content/uploads/2023/09/de86e7ec7b4d3757d7cc064017f66d45.jpg
END:VEVENT
END:VCALENDAR